BEGIN:VCALENDAR
VERSION:2.0
PRODID:-//eventon.com NONSGML v1.0//EN
CALSCALE:GREGORIAN
METHOD:PUBLISH
BEGIN:VEVENT
UID:69e5e77922d28
DTSTAMP:20260420T084441Z
DTSTART:20251101T190000Z
DTEND:20251101T225900Z
LOCATION:Hotel Reine Victoria\,  Theatersaal Via Rosatsch 18\,  7500 St. Moritz
SUMMARY:Der Abschiedsbrief
DESCRIPTION:Eine Tragikomödie von Audrey Schebat Der mutige Aufbruch eines
  Ehepaars im dritten Lebensabschnitt in eine unbekannte Zukunft. Alles hint
 er sich lassen\,  ohne einen Abschiedsbrief zu schreiben? Genau das hatte J
 ulian vor\,  doch dann kommt Michèle unverhofft früher nach Hause. Die be
 iden sind seit 30 Jahren verheiratet\,  Julian ist Psychoanalytiker\,  Mich
 èle[..]\nhttps://www.laudinella.ch/events/der-abschiedsbrief/
URL:https://www.laudinella.ch/events/der-abschiedsbrief/
END:VEVENT
END:VCALENDAR