BEGIN:VCALENDAR
VERSION:2.0
PRODID:-//eventon.com NONSGML v1.0//EN
CALSCALE:GREGORIAN
METHOD:PUBLISH
BEGIN:VEVENT
UID:69e5e747027eb
DTSTAMP:20260420T084351Z
DTSTART:20250628T080000Z
DTEND:20250628T215900Z
LOCATION:Hotel Reine Victoria Via Rosatsch 18\,  7500 St. Moritz
SUMMARY:OPEN DOORS ENGADIN
DESCRIPTION:Das Engadin im Zeichen der Baukultur: Open Doors Engadin öffne
 t unter dem Motto «Architektur für alle» am 28. und 29. Juni 2025 wieder
  seine Türen. Rund 80 Bauten aus allen Epochen sind an diesem Wochenende z
 u entdecken. Der kostenlose Anlass gibt ganz neue Perspektiven auf die Baut
 en der Region –[..]\nhttps://www.laudinella.ch/events/open-doors-engadin-
 2/
URL:https://www.laudinella.ch/events/open-doors-engadin-2/
END:VEVENT
END:VCALENDAR