BEGIN:VCALENDAR
VERSION:2.0
PRODID:-//eventon.com NONSGML v1.0//EN
CALSCALE:GREGORIAN
METHOD:PUBLISH
BEGIN:VEVENT
UID:69e88c6f6f7dd
DTSTAMP:20260422T085303Z
DTSTART:20240224T160000Z
DTEND:20240224T225000Z
LOCATION:Brigitte &amp; Henri B. Meier Concert Hall\,  Hotel Laudinella Via Tegiatscha 17\,  St. Moritz
SUMMARY:Stummfilme - Live in Concert
DESCRIPTION:Programm: Jens Jörg Troester - Laurel and Hardy: "Liberty" Cha
 rlie Chaplin: «The Rink» Jens Jörg Troester - Laurel and Hardy: "Big Bus
 iness" Was haben Charlie Chaplin\,  Stan Laurel und Oliver Hardy gemeinsam?
  Richtig\,  sie alle gehören zu den grössten Filmschauspielern\,  die jem
 als in Hollywood zu sehen waren. Grund genug für[..]\nhttps://www.laudinel
 la.ch/events/stummfilme-live-in-concert/
URL:https://www.laudinella.ch/events/stummfilme-live-in-concert/
END:VEVENT
END:VCALENDAR