BEGIN:VCALENDAR
VERSION:2.0
PRODID:-//eventon.com NONSGML v1.0//EN
CALSCALE:GREGORIAN
METHOD:PUBLISH
BEGIN:VEVENT
UID:69ea97c1706ed
DTSTAMP:20260423T220553Z
DTSTART:20240218T160000Z
DTEND:20240218T225000Z
LOCATION:Brigitte &amp; Henri B. Meier Concert Hall\,  Hotel Laudinella Via Tegiatscha 17\,  St. Moritz
SUMMARY:Engadin Festival - Piano Days
DESCRIPTION:Die Schweizer Pianistin Beatrice Berrut ist in den Walliser Ber
 gen aufgewachsen und heute auf den grossen Konzertpodien der Welt zu Hause.
  «Die Berge prägen natürlich mein Klavierspiel; sie bringen mir eine gew
 isse Geistlichkeit. Vor den Bergen habe ich eine grosse Ehrfurcht\,  auch v
 or der Musik»\,  sagt sie. Und die Presse[..]\nhttps://www.laudinella.ch/e
 vents/engadin-festival-piano-days/
URL:https://www.laudinella.ch/events/engadin-festival-piano-days/
END:VEVENT
END:VCALENDAR