BEGIN:VCALENDAR
VERSION:2.0
PRODID:-//eventon.com NONSGML v1.0//EN
CALSCALE:GREGORIAN
METHOD:PUBLISH
BEGIN:VEVENT
UID:69eacb845ea2d
DTSTAMP:20260424T014644Z
DTSTART:20240124T193000Z
DTEND:20240124T225000Z
LOCATION:Hotel Reine Victoria\,  Theatersaal Via Rosatsch 18\,  7500 St. Moritz
SUMMARY:Open Doors Engadin-Experten im Gespräch:
DESCRIPTION:Einführung und Moderation: Christoph Oggenfuss\,  Präsident V
 erein Open Doors Engadin Das Bergell war das Heimattal der Giacometti-Küns
 tler. Über die Zeit bewohnte die Familie mehrere Häuser in Borgonovo\,  M
 ontaccio\,  Caccior\,  Stampa und Maloja Capolago und die Künstler Giovann
 i\,  Augusto und Alberto teilten sich vier Ateliers. Das Sentiero Giacomett
 i\,  das zu Ostern[..]\nhttps://www.laudinella.ch/events/open-doors-engadin
 -experten-im-gespraech/
URL:https://www.laudinella.ch/events/open-doors-engadin-experten-im-gespraech/
END:VEVENT
END:VCALENDAR