BEGIN:VCALENDAR
VERSION:2.0
PRODID:-//eventon.com NONSGML v1.0//EN
CALSCALE:GREGORIAN
METHOD:PUBLISH
BEGIN:VEVENT
UID:69e9dfe4e938a
DTSTAMP:20260423T090124Z
DTSTART:20231021T173000Z
DTEND:20231021T215000Z
LOCATION:Hotel Suvretta House Via Chasellas 1\,  7500 St. Moritz
SUMMARY:Schweizer Jugend Sinfonie Orchester
DESCRIPTION:Das Schweizer Jugend-Sinfonie-Orchester ist ein Orchester der b
 esonderen Art: Aus allen vier Landesteilen der Schweiz kommen bis zu hunder
 t junge Musikerinnen und Musiker im Alter zwischen 15 und 25 Jahren zusamme
 n und führen unter der Leitung international bekannter Dirigent*innen ansp
 ruchsvolle Werke aus allen Epochen der klassischen Musik auf. In den[..]\nh
 ttps://www.laudinella.ch/events/schweizer-jugend-sinfonie-orchester-2/
URL:https://www.laudinella.ch/events/schweizer-jugend-sinfonie-orchester-2/
END:VEVENT
END:VCALENDAR