BEGIN:VCALENDAR
VERSION:2.0
PRODID:-//eventon.com NONSGML v1.0//EN
CALSCALE:GREGORIAN
METHOD:PUBLISH
BEGIN:VEVENT
UID:69e9ef3de0b55
DTSTAMP:20260423T100653Z
DTSTART:20221221T160000Z
DTEND:20221221T170000Z
LOCATION:Hotel Reine Victoria Via Rosatsch 18\,  7500 St. Moritz
SUMMARY:Jazz @ Reine Victoria
DESCRIPTION:Die Ausnahmemusikerin hat eine hochkarätige Band dabei\,  mit 
 der sie schon weltweit auf Tournee war. Ein täglich wechselndes Programm m
 it feurigem Samba\,  Rhythmen voll Improvisationslust und sinnlicher Raffin
 esse sowie eigenen Kompositionen der «Botschafterin der Bossa Nova»\,  wi
 e Vivi De Farias auch genannt wird\,  erwartet Sie. Viviane de Farias (BRA/
 USA/D)\,  Gesang\, [..]\nhttps://www.laudinella.ch/events/jazz-reine-victor
 ia-9/var/ri-1.l-L1
URL:https://www.laudinella.ch/events/jazz-reine-victoria-9/var/ri-1.l-L1
END:VEVENT
END:VCALENDAR