BEGIN:VCALENDAR
VERSION:2.0
PRODID:-//eventon.com NONSGML v1.0//EN
CALSCALE:GREGORIAN
METHOD:PUBLISH
BEGIN:VEVENT
UID:69e88b265fb2d
DTSTAMP:20260422T084734Z
DTSTART:20220728T090000Z
DTEND:20220728T100000Z
LOCATION:Brigitte &amp; Henri B. Meier Concert Hall\,  Hotel Laudinella Via Tegiatscha 17\,  St. Moritz
SUMMARY:Salonorchester St. Moritz
DESCRIPTION:Seit Ende des 19. Jahrhunderts ist die Tradition der Salonmusik
  im Engadin zuhause und begeistert auch diesen Sommer das Publikum. Vom 28.
  – 31. Juli finden die Morgenkonzerte täglich von 10:30 – 11:30 Uhr in
  der Brigitte &amp; Henri B. Meier Concert Hall im Hotel Laudinella statt. 
 Zu den Konzertprogrammen[..]\nhttps://www.laudinella.ch/events/salonorchest
 er-st-moritz/
URL:https://www.laudinella.ch/events/salonorchester-st-moritz/
END:VEVENT
END:VCALENDAR