BEGIN:VCALENDAR
VERSION:2.0
PRODID:-//eventon.com NONSGML v1.0//EN
CALSCALE:GREGORIAN
METHOD:PUBLISH
BEGIN:VEVENT
UID:69e892120f7fc
DTSTAMP:20260422T091706Z
DTSTART:20220728T180000Z
DTEND:20220728T193100Z
LOCATION:Hotel Reine Victoria Via Rosatsch 18\,  7500 St. Moritz
SUMMARY:Festival da Jazz - Level 42
DESCRIPTION:In Douglas Adamsâ€™ Kultroman Â«Per Anhalter durch die GalaxisÂ
 » erfÃ¤hrt man die Antwort auf die Frage aller Fragen. Sie lautet: 42. Und 
 nun wissen Sie woher die Band Level 42 ihren Namen hat. Zwischen 1981 und 1
 991 hatte die Band einen richtigen Lauf mit ihren Hits Â«Turn It OnÂ»\,  Â«
 Love[..]\nhttps://www.laudinella.ch/events/festival-da-jazz-level-42/
URL:https://www.laudinella.ch/events/festival-da-jazz-level-42/
END:VEVENT
END:VCALENDAR