BEGIN:VCALENDAR
VERSION:2.0
PRODID:-//eventon.com NONSGML v1.0//EN
CALSCALE:GREGORIAN
METHOD:PUBLISH
BEGIN:VEVENT
UID:69eb5adaaa833
DTSTAMP:20260424T115818Z
DTSTART:20220824T183000Z
DTEND:20220824T200000Z
LOCATION:Theatersaal Hotel Reine Victoria Via Rosatsch 18
SUMMARY:Tango Oper Alfonsina
DESCRIPTION:Die neue Komposition «ALFONSINA» ist eine Tango Oper in drei 
 Akten von Francisco Obieta und basiert auf den Texten - Lyrik und Prosa - v
 on Alfonsina Storni.In diesen drei Akten des Werks werden die Schlüsselmo
 mente der bekannten Lyrikerin mit Schweizer Wurzeln aufgezeigt. Die dramati
 schen Erlebnisse in ihrem Leben erzeugen eine[..]\nhttps://www.laudinella.c
 h/events/tango-oper-alfonsina/
URL:https://www.laudinella.ch/events/tango-oper-alfonsina/
END:VEVENT
END:VCALENDAR