BEGIN:VCALENDAR
VERSION:2.0
PRODID:-//eventon.com NONSGML v1.0//EN
CALSCALE:GREGORIAN
METHOD:PUBLISH
BEGIN:VEVENT
UID:69e88ad1f376f
DTSTAMP:20260422T084609Z
DTSTART:20220308T163000Z
DTEND:20220308T200000Z
LOCATION:Hotel Laudinella Via Tegiatscha 17\,  7500 St. Moritz
SUMMARY:Abend mit 50 Marathons\,  Seven Summits und 4 Wüsten
DESCRIPTION:Anlässlich des Internationalen Tags der Frau 2022 laden wir al
 le Engadinerinnen und Engadiner\,  ganz speziell auch die jüngere Generati
 on\,  herzlich zu einem spannenden&nbsp;«Abend mit 50 Marathons\,  Seven S
 ummits und 4 Wüsten»&nbsp;ein.&nbsp; Zum&nbsp;Internationalen Tag der Fra
 u am 8. März 2022&nbsp;findet in der Laudinella ein Event mit drei ausserg
 ewöhnlichen Frauen statt.&nbsp;Françoise Stahel\, [..]\nhttps://www.laudi
 nella.ch/events/weltfrauentag/
URL:https://www.laudinella.ch/events/weltfrauentag/
END:VEVENT
END:VCALENDAR