BEGIN:VCALENDAR
VERSION:2.0
PRODID:-//eventon.com NONSGML v1.0//EN
CALSCALE:GREGORIAN
METHOD:PUBLISH
BEGIN:VEVENT
UID:69e5e8346d467
DTSTAMP:20260420T084748Z
DTSTART:20210708T200000Z
DTEND:20210708T210000Z
LOCATION:Hotel Reine Victoria Via Rosatsch 18\,  7500 St. Moritz
SUMMARY:Festival da Jazz: José James
DESCRIPTION:José James verknüpft Jazz und Soul auf absolut zeitgemässe W
 eise\,  wobei sein Gesang auf aufregende Weise zwischen Angriffigkeit und Z
 urücknahme oszilliert. Seit seiner Entdeckung durch den Londoner DJ Gilles
  Peterson reitet José James auf einer Erfolgswelle. Dabei hat er sein Repe
 rtoire regelmässig um starke Hommagen an wichtige Vorbilder - zu[..]\nhttp
 s://www.laudinella.ch/events/festival-da-jazz-jose-james/
URL:https://www.laudinella.ch/events/festival-da-jazz-jose-james/
END:VEVENT
END:VCALENDAR