BEGIN:VCALENDAR
VERSION:2.0
PRODID:-//eventon.com NONSGML v1.0//EN
CALSCALE:GREGORIAN
METHOD:PUBLISH
BEGIN:VEVENT
UID:69e56ad87d89e
DTSTAMP:20260419T235256Z
DTSTART:20201220T040000Z
DTEND:20201220T070000Z
LOCATION:Hotel Reine Victoria Via Rosatsch 18\,  7500 St. Moritz
SUMMARY:Blaue Stunde Schneeschuh-Wanderung
DESCRIPTION:Entdecken Sie das Engadin mit den Schneeschuhen und lassen Sie 
 sich von der ganz besonderen Stimmung kurz vor der Dämmerung\,  der sogena
 nnten “Blauen Stunde” verzaubern. Nach der Wanderung wärmen Sie sich b
 eim Apéro im gemütlichen Hotel Corvatsch am Kamin mit einem Glühwein ode
 r Tee und einem Plättli wieder auf und[..]\nhttps://www.laudinella.ch/even
 ts/blaue-stunde-schneeschuh-wanderung/
URL:https://www.laudinella.ch/events/blaue-stunde-schneeschuh-wanderung/
END:VEVENT
END:VCALENDAR