BEGIN:VCALENDAR
VERSION:2.0
PRODID:-//eventon.com NONSGML v1.0//EN
CALSCALE:GREGORIAN
METHOD:PUBLISH
BEGIN:VEVENT
UID:69e9de75585d7
DTSTAMP:20260423T085517Z
DTSTART:20200920T150000Z
DTEND:20200920T160000Z
LOCATION:Hotel Reine Victoria Via Rosatsch 18\,  7500 St. Moritz
SUMMARY:Vico Torriani
DESCRIPTION:Die Buchautorin Barbara Tänzler und Nicole Kündig-Torriani\, 
  Tochter des berühmten Schweizer Entertainers\,  stellen diese erste Biogr
 afie über Vico Torriani vor. Lorenzo Polin\,  Schauspieler\,  liest Passag
 en aus dem Buch. Torrianis Karriereetappen lesen sich wie eine Abfolge kind
 licher Traumberufe: Sänger\,  Schlagerstar\,  Schauspieler\,  Entertainer\
 ,  Showkoch und TV Legende. Doch welcher Mensch steckt hinter[..]\nhttps://
 www.laudinella.ch/events/vico-torriani/
URL:https://www.laudinella.ch/events/vico-torriani/
END:VEVENT
END:VCALENDAR