BEGIN:VCALENDAR
VERSION:2.0
PRODID:-//eventon.com NONSGML v1.0//EN
CALSCALE:GREGORIAN
METHOD:PUBLISH
BEGIN:VEVENT
UID:69e702fc47287
DTSTAMP:20260421T045420Z
DTSTART:20220626
DTEND:20220627
LOCATION:Hotel Reine Victoria Via Rosatsch 18\,  7500 St. Moritz
SUMMARY:Tai Ji Quan – Die Kunst der Balance von Ruhe und Bewegung
DESCRIPTION:Der Name Quan (chinesisch) = Faust verdeutlicht\,  dass diese F
 ormen früher dem Kampf bzw. der Verteidigung dienten. Obwohl der Verteidig
 ungsaspekt noch immer vorhanden ist\,  wird heute Tai Ji hauptsächlich zur
  Gesundheitspflege und für ein langes glückliches Leben praktiziert. Tai 
 Ji kann bis ins hohe Alter von Frauen und Männern ausgeübt[..]\nhttps://w
 ww.laudinella.ch/en/events/tai-ji-quan-die-kunst-der-balance-von-ruhe-und-b
 ewegung-2/
URL:https://www.laudinella.ch/en/events/tai-ji-quan-die-kunst-der-balance-von-ruhe-und-bewegung-2/
END:VEVENT
END:VCALENDAR