BEGIN:VCALENDAR
VERSION:2.0
PRODID:-//eventon.com NONSGML v1.0//EN
CALSCALE:GREGORIAN
METHOD:PUBLISH
BEGIN:VEVENT
UID:69e88b265e94f
DTSTAMP:20260422T084734Z
DTSTART:20200803T150000Z
DTEND:20200803T163000Z
LOCATION:Hotel Reine Victoria Via Rosatsch 18\,  7500 St. Moritz
SUMMARY:Engadin Festival - Gershwin Piano Quartett
DESCRIPTION:4 Pianisten an 4 Flügeln spielen Werke von Brahms\,  Beethoven
 \,  Rachmaninov\,  Khatchaturjan\,  Strauss\,  Gershwin\,  Porter und Say. 
 Die Originalversionen werden von den Quartett-Mitgliedern für die ungewöh
 nliche Besetzung von vier Flügeln umgearbeitet und führen so zu einem neu
 artigen und aufregenden Konzerterlebnis. Das Gershwin Piano Quartet wurde 1
 996 von André Desponds gegründet.[..]\nhttps://www.laudinella.ch/en/event
 s/engadin-festival-klavier-rezital-claire-huangci/
URL:https://www.laudinella.ch/en/events/engadin-festival-klavier-rezital-claire-huangci/
END:VEVENT
END:VCALENDAR