BEGIN:VCALENDAR
VERSION:2.0
PRODID:-//eventon.com NONSGML v1.0//EN
CALSCALE:GREGORIAN
METHOD:PUBLISH
BEGIN:VEVENT
UID:69e88bf04d666
DTSTAMP:20260422T085056Z
DTSTART:20240919T183000Z
DTEND:20240919T215900Z
LOCATION:Hotel Reine Victoria\,  Vic's Bar Via Rosatsch 18\,  7500 St. Moritz
SUMMARY:JÜRG M. RICKLI TRIO feat. GITHE CHRISTENSEN
DESCRIPTION:Das Quartett um den Pianisten und Komponisten Jürg Michel Rick
 li (CH) und der Sängerin Githe Christensen (DK) fokussiert auf originelle\
 ,  groovige und spannende Eigenkompositionen\,  die im Jazz verwurzelt sind
 . Quasi einen Schritt neben dem Mainstream.  Die Zusammenarbeit zwischen R
 ickli (Kompositionen) und Christensen (Texte) hat sich über die letzten be
 iden Jahre[..]\nhttps://www.laudinella.ch/en/events/juerg-m-rickli-trio-fea
 t-githe-christensen-2/
URL:https://www.laudinella.ch/en/events/juerg-m-rickli-trio-feat-githe-christensen-2/
END:VEVENT
END:VCALENDAR