BEGIN:VCALENDAR
VERSION:2.0
PRODID:-//eventon.com NONSGML v1.0//EN
CALSCALE:GREGORIAN
METHOD:PUBLISH
BEGIN:VEVENT
UID:69e88cef30135
DTSTAMP:20260422T085511Z
DTSTART:20240710T090000Z
DTEND:20240714T100000Z
LOCATION:Hotel Reine Victoria\,  Vic's Bar Via Rosatsch 18\,  7500 St. Moritz
SUMMARY:Kurkonzerte St. Moritz
DESCRIPTION:Musenkuss-Kabinett Samuel Zünd\,  Gesang &amp; ConferenceNina 
 Ulli\,  ViolineEdward Rushton\,  Klavier Eine humoristisch-frivole Liederre
 vue aus dem Berlin der 20er Jahre erwartet die geneigten Zuhörer in dieser
  Woche. Der Bariton und Entertainer Samuel Zünd «bricht die Herzen der st
 olzesten Frau’n» mit seinem Charme und dem verführerischen Schmelz sein
 er wohltemperierten Stimme. Es begleitet[..]\nhttps://www.laudinella.ch/en/
 events/kurkonzerte-st-moritz-4/
URL:https://www.laudinella.ch/en/events/kurkonzerte-st-moritz-4/
END:VEVENT
END:VCALENDAR