BEGIN:VCALENDAR
VERSION:2.0
PRODID:-//eventon.com NONSGML v1.0//EN
CALSCALE:GREGORIAN
METHOD:PUBLISH
BEGIN:VEVENT
UID:69e9df45f37e4
DTSTAMP:20260423T085845Z
DTSTART:20240721T170700Z
DTEND:20240721T215000Z
LOCATION:Lej da Staz Vietta da Staz 3\,  7505 Celerina/St. Moritz
SUMMARY:Festival da Jazz @ Lej da Staz
DESCRIPTION:Für ein Konzert am vermutlich schönsten Flecken des Festivals
 \,  braucht es Musik mit genügend Hubraum\,  reichlich Charme und idealerw
 eise ein paar Hits. Anforderungen\,  welche der britische Act Morcheeba loc
 ker erfüllt. Grossartige Songs in lockerer\,  luftiger Trip-Hop Manier ver
 setzt mit reichlich Soul und im Zentrum immer die einzigartige Stimme von S
 kye[..]\nhttps://www.laudinella.ch/en/events/festival-da-jazz-lej-da-staz/
URL:https://www.laudinella.ch/en/events/festival-da-jazz-lej-da-staz/
END:VEVENT
END:VCALENDAR