BEGIN:VCALENDAR
VERSION:2.0
PRODID:-//eventon.com NONSGML v1.0//EN
CALSCALE:GREGORIAN
METHOD:PUBLISH
BEGIN:VEVENT
UID:69ed3b7271783
DTSTAMP:20260425T220850Z
DTSTART:20240911T183000Z
DTEND:20240911T215000Z
LOCATION:Hotel Reine Victoria Via Rosatsch 18\,  7500 St. Moritz
SUMMARY:Das Engadin Leben - Menschen erzählen ihre persönliche Geschichte
DESCRIPTION:Alles ist in Bewegung und nichts steht still. So lautet das The
 ma des ersten Albums „In Movimaint“ von Cinzia Regensburger. Das passt\
 ,  denn es beschreibt die junge\,  quirlige Unterengadinerin selbst perfekt
 . Cinzia Regensburger studierte den Bachelor of Arts im klassischen Gesang 
 und Klavier am Vorarlberger Landeskonservatorium in Feldkirch. Schon im[..]
 \nhttps://www.laudinella.ch/en/events/engadin-leben-menschen-erzaehlen-ihre
 -persoenliche-geschichte/
URL:https://www.laudinella.ch/en/events/engadin-leben-menschen-erzaehlen-ihre-persoenliche-geschichte/
END:VEVENT
END:VCALENDAR