BEGIN:VCALENDAR
VERSION:2.0
PRODID:-//eventon.com NONSGML v1.0//EN
CALSCALE:GREGORIAN
METHOD:PUBLISH
BEGIN:VEVENT
UID:69e5ac1891b4f
DTSTAMP:20260420T043120Z
DTSTART:20230630T160000Z
DTEND:20230630T215000Z
LOCATION:Hotel Laudinella Via Tegiatscha 17\,  7500 St. Moritz
SUMMARY:Livemusik in der Laudinella Lobby Bar
DESCRIPTION:Dukeland begeistert. Die Formation ist in unterschiedlichen Bes
 etzungen auf den großen und kleinen Bühnen zuhause und in der österreich
 ischen und europäischen Szene bestens etabliert. Dukeland bietet ein breit
 es Spektrum des Repertoires. Von der grandiosen Jazzband\,  die mit den sch
 önsten weltumspannenden Standards Glanz und niveauvolle Unterhaltung ins H
 aus zaubert. Über Oldies\, [..]\nhttps://www.laudinella.ch/en/events/livem
 usik-in-der-laudinella-lobby-bar-3/
URL:https://www.laudinella.ch/en/events/livemusik-in-der-laudinella-lobby-bar-3/
END:VEVENT
END:VCALENDAR