BEGIN:VCALENDAR
VERSION:2.0
PRODID:-//eventon.com NONSGML v1.0//EN
CALSCALE:GREGORIAN
METHOD:PUBLISH
BEGIN:VEVENT
UID:69ed775b4a8eb
DTSTAMP:20260426T022427Z
DTSTART:20230804T150000Z
DTEND:20230804T215000Z
LOCATION:Dorfplatz | Silvaplana Plazza dal Güglia\,  7513 Silvaplana
SUMMARY:Engadin Festival
DESCRIPTION:«Cinema Paradise» Der Dorfplatz von Silvaplana verwandelt sic
 h in ein «Cinema Paradise»: Von Verdi und Piazzolla über West Side Story
  und Louis Armstrong zu Hair\,  Star Wars und Jurassic Parc zündet das tsc
 hechische Blechbläserensemble Czech Brass ein Feuerwerk an Evergreens aus 
 der Filmmusik. Die Musiker sind allesamt Solisten der tschechischen[..]\nht
 tps://www.laudinella.ch/en/events/engadin-festival-7/
URL:https://www.laudinella.ch/en/events/engadin-festival-7/
END:VEVENT
END:VCALENDAR