BEGIN:VCALENDAR
VERSION:2.0
PRODID:-//eventon.com NONSGML v1.0//EN
CALSCALE:GREGORIAN
METHOD:PUBLISH
BEGIN:VEVENT
UID:69e5c3d8b4d79
DTSTAMP:20260420T061240Z
DTSTART:20221009T090000Z
DTEND:20221009T101500Z
LOCATION:Brigitte &amp; Henri B. Meier Concert Hall\,  Hotel Laudinella Via Tegiatscha 17\,  St. Moritz
SUMMARY:Akademisches Kammerorchester ZÃ¼rich
DESCRIPTION:Johannes Schlaefli\,  LeitungBenjamin Engeli\,  Klavier Edvard 
 GriegÂ Klavierkonzert a-Moll op.Â 16 (30 min)Dmitri SchostakowitschÂ Sinfon
 ie Nr.Â 5 d-Moll op. 47 (46 min) Der Verein Akademisches Kammerorchester ZÃ
 ¼rich (AKO) der ETH und UniversitÃ¤t ZÃ¼rich wurde im Jahre 1992 gegrÃ¼ndet
 . Das Orchester besteht\,  je nach Programm\,  aus rund 40 Studierenden\,  
 Assistentlnnen und Ehemaligen der beiden UniversitÃ¤ten.[..]\nhttps://www.l
 audinella.ch/en/events/akademisches-kammerorchester-zuerich/
URL:https://www.laudinella.ch/en/events/akademisches-kammerorchester-zuerich/
END:VEVENT
END:VCALENDAR