BEGIN:VCALENDAR
VERSION:2.0
PRODID:-//eventon.com NONSGML v1.0//EN
CALSCALE:GREGORIAN
METHOD:PUBLISH
BEGIN:VEVENT
UID:69e7472a236b9
DTSTAMP:20260421T094514Z
DTSTART:20210207T040000Z
DTEND:20210207T070000Z
LOCATION:Hotel Reine Victoria Via Rosatsch 18\,  7500 St. Moritz
SUMMARY:Blaue Stunde Schneeschuh-Wanderung
DESCRIPTION:Entdecken Sie das Engadin mit den Schneeschuhen und lassen Sie 
 sich von der ganz besonderen Stimmung kurz vor der Dämmerung\,  der sogena
 nnten “Blauen Stunde” verzaubern. Nach der Wanderung wärmen Sie sich b
 eim Apéro im gemütlichen Hotel Corvatsch am Kamin mit einem Glühwein ode
 r Tee und einem Plättli wieder auf und[..]\nhttps://www.laudinella.ch/en/e
 vents/blaue-stunde-schneeschuh-wanderung/var/ri-7.l-L1
URL:https://www.laudinella.ch/en/events/blaue-stunde-schneeschuh-wanderung/var/ri-7.l-L1
END:VEVENT
END:VCALENDAR